BEGIN:VCALENDAR
VERSION:2.0
PRODID:-//Paroisse catholique Saint-Gabriel de Vaise - ECPv6.15.11//NONSGML v1.0//EN
CALSCALE:GREGORIAN
METHOD:PUBLISH
X-WR-CALNAME:Paroisse catholique Saint-Gabriel de Vaise
X-ORIGINAL-URL:https://www.paroissedevaise.fr
X-WR-CALDESC:Évènements pour Paroisse catholique Saint-Gabriel de Vaise
REFRESH-INTERVAL;VALUE=DURATION:PT1H
X-Robots-Tag:noindex
X-PUBLISHED-TTL:PT1H
BEGIN:VTIMEZONE
TZID:Europe/Paris
BEGIN:DAYLIGHT
TZOFFSETFROM:+0100
TZOFFSETTO:+0200
TZNAME:CEST
DTSTART:20250330T010000
END:DAYLIGHT
BEGIN:STANDARD
TZOFFSETFROM:+0200
TZOFFSETTO:+0100
TZNAME:CET
DTSTART:20251026T010000
END:STANDARD
BEGIN:DAYLIGHT
TZOFFSETFROM:+0100
TZOFFSETTO:+0200
TZNAME:CEST
DTSTART:20260329T010000
END:DAYLIGHT
BEGIN:STANDARD
TZOFFSETFROM:+0200
TZOFFSETTO:+0100
TZNAME:CET
DTSTART:20261025T010000
END:STANDARD
BEGIN:DAYLIGHT
TZOFFSETFROM:+0100
TZOFFSETTO:+0200
TZNAME:CEST
DTSTART:20270328T010000
END:DAYLIGHT
BEGIN:STANDARD
TZOFFSETFROM:+0200
TZOFFSETTO:+0100
TZNAME:CET
DTSTART:20271031T010000
END:STANDARD
END:VTIMEZONE
BEGIN:VEVENT
DTSTART;TZID=Europe/Paris:20260421T170000
DTEND;TZID=Europe/Paris:20260421T183000
DTSTAMP:20260421T024813
CREATED:20260327T123603Z
LAST-MODIFIED:20260327T123603Z
UID:37694-1776790800-1776796200@www.paroissedevaise.fr
SUMMARY:Rencontre de l'équipe du Rosaire de l'après-midi
DESCRIPTION:Pour aider amis et voisins à vivre l’Evangile avec Marie\, dans le climat fraternel un petit groupe forme une équipe dans le quartier. A deux ou trois\, on peut commencer la prière commune mensuelle dans la maison de l’un ou l’autre\, pour avoir la possibilité d’inviter amicalement des voisins\, même s’ils n’appartiennent pas à l’équipe\, et mettre plus à l’aise “ceux qui n’ont pas l’habitude d’aller à l’église”.
URL:https://www.paroissedevaise.fr/event/rencontre-de-lequipe-du-rosaire-de-lapres-midi-4/
LOCATION:Maison paroissiale St-Pierre\, 3 Boulevard Antoine de Saint-Exupéry\, LYON\, 69009\, France
CATEGORIES:Groupe de prière
ATTACH;FMTTYPE=image/png:https://www.paroissedevaise.fr/wp-content/uploads/2025/01/logo-rosaire.png
END:VEVENT
END:VCALENDAR